BEGIN:VCALENDAR
VERSION:2.0
PRODID:-//eventon.com NONSGML v1.0//EN
CALSCALE:GREGORIAN
METHOD:PUBLISH
BEGIN:VEVENT
UID:69e74d21b86cd
DTSTAMP:20260421T101041Z
DTSTART:20260409T130000Z
DTEND:20260409T150000Z
LOCATION:
SUMMARY:Volná herna - ODPOLEDNE
DESCRIPTION:Pro rodiče s dětmi či prarodiče s vnoučaty od 1 do 11 let 
 je každý pátek dopoledne k dispozici volná herna bez společného progr
 amu. Využít můžete množství herních prvků dle věku dítěte\,  ter
 asu centra s velkým pískovištěm nebo si dát lahodnou kávu či čaj. V
 íce informací naleznete ZDE\nhttps://www.rcsrdicko.cz/events/volna-herna-
 odpoledne/
URL:https://www.rcsrdicko.cz/events/volna-herna-odpoledne/
END:VEVENT
END:VCALENDAR