BEGIN:VCALENDAR
VERSION:2.0
PRODID:-//eventon.com NONSGML v1.0//EN
CALSCALE:GREGORIAN
METHOD:PUBLISH
BEGIN:VEVENT
UID:69ed7446d9d55
DTSTAMP:20260426T021118Z
DTSTART:20260427T131500Z
DTEND:20260427T144500Z
LOCATION:
SUMMARY:Háčkování
DESCRIPTION:Kroužek Háčkování je určen dětem od 8 do 13 let. Děti s
 e seznámí se základními technikami háčkování a postupně si budou z
 koušet výrobu různých zvířátek.\nhttps://www.rcsrdicko.cz/events/hac
 kovani/var/ri-2.l-L1
URL:https://www.rcsrdicko.cz/events/hackovani/var/ri-2.l-L1
END:VEVENT
END:VCALENDAR