BEGIN:VCALENDAR
VERSION:2.0
PRODID:-//eventon.com NONSGML v1.0//EN
CALSCALE:GREGORIAN
METHOD:PUBLISH
BEGIN:VEVENT
UID:69e9605db4e1b
DTSTAMP:20260422T235717Z
DTSTART:20260424T063000Z
DTEND:20260424T091500Z
LOCATION:
SUMMARY:Volná herna - DOPOLEDNE
DESCRIPTION:Pro rodiče s dětmi či prarodiče s vnoučaty od 1 do 11 let 
 je každý pátek dopoledne k dispozici volná herna bez společného progr
 amu. Využít můžete množství herních prvků dle věku dítěte\,  ter
 asu centra s velkým pískovištěm nebo si dát lahodnou kávu či čaj. V
 íce informací naleznete ZDE\nhttps://www.rcsrdicko.cz/events/volna-herna-
 2/var/ri-2.l-L1
URL:https://www.rcsrdicko.cz/events/volna-herna-2/var/ri-2.l-L1
END:VEVENT
END:VCALENDAR