BEGIN:VCALENDAR
VERSION:2.0
PRODID:-//eventon.com NONSGML v1.0//EN
CALSCALE:GREGORIAN
METHOD:PUBLISH
BEGIN:VEVENT
UID:69e73aee1552a
DTSTAMP:20260421T085302Z
DTSTART:20241220T070000Z
DTEND:20250103T140000Z
LOCATION:
SUMMARY:Rodinné centrum uzavřeno
DESCRIPTION:Milí návštěvníci\,  centrum bude od 20.12. &#8211; 03.01.2
 025 uzavřeno. Těšíme se na Vás opět 06.01.2025.\nhttps://www.rcsrdick
 o.cz/events/rodinne-centrum-uzavreno/
URL:https://www.rcsrdicko.cz/events/rodinne-centrum-uzavreno/
END:VEVENT
END:VCALENDAR