BEGIN:VCALENDAR
VERSION:2.0
PRODID:-//eventon.com NONSGML v1.0//EN
CALSCALE:GREGORIAN
METHOD:PUBLISH
BEGIN:VEVENT
UID:69e5f08beab78
DTSTAMP:20260420T092323Z
DTSTART:20241111T160000Z
DTEND:20241111T173000Z
LOCATION:
SUMMARY:Podpůrná skupina pro rodiče malých dětí
DESCRIPTION:Setkávání rodičů miminek a malých dětí s možností sd
 lení radostí a starostí v bezpečném a přátelském prostředí. Víc
 e informací ZDE.\nhttps://www.rcsrdicko.cz/events/podpurna-skupina-pro-rod
 ice-malych-deti/
URL:https://www.rcsrdicko.cz/events/podpurna-skupina-pro-rodice-malych-deti/
END:VEVENT
END:VCALENDAR