BEGIN:VCALENDAR
VERSION:2.0
PRODID:-//eventon.com NONSGML v1.0//EN
CALSCALE:GREGORIAN
METHOD:PUBLISH
BEGIN:VEVENT
UID:69e73b053742d
DTSTAMP:20260421T085325Z
DTSTART:20241007T070000Z
DTEND:20241007T160000Z
LOCATION:
SUMMARY:Příjem oblečení k prodeji do Dobročinné burzy dětského\,  kojeneckého a těhotenského oblečení
DESCRIPTION:Prodávající\,  kteří se přihlásili o pořadová čísla\
 ,  donesou označené oblečení k prodeji od 9.00 do 18.00 hodin spolu s v
 yplněným seznamem ve dvojím vyhotovení. Více informací k burze nalezn
 ete ZDE.\nhttps://www.rcsrdicko.cz/events/prijem-obleceni-k-prodeji-do-dobr
 ocinne-burzy-detskeho-kojeneckeho-a-tehotenskeho-obleceni/
URL:https://www.rcsrdicko.cz/events/prijem-obleceni-k-prodeji-do-dobrocinne-burzy-detskeho-kojeneckeho-a-tehotenskeho-obleceni/
END:VEVENT
END:VCALENDAR