BEGIN:VCALENDAR
VERSION:2.0
PRODID:-//eventon.com NONSGML v1.0//EN
CALSCALE:GREGORIAN
METHOD:PUBLISH
BEGIN:VEVENT
UID:69e75325d8c9b
DTSTAMP:20260421T103621Z
DTSTART:20230912T120000Z
DTEND:20230912T124500Z
LOCATION:
SUMMARY:Cvičte s námi
DESCRIPTION:Zdravotní cvičení pro střední a starší generaci pod vede
 ním fyzioterapeutky Bc. Jany Šrámkové. Na cvičení se nemusíte hlási
 t předem. Vstupné 60 Kč\,  možnost zakoupení výhodné permanentky. V
 ce informací naleznete ZDE.\nhttps://www.rcsrdicko.cz/events/cvicte-s-nam
 i-na-pilaku/var/ri-1.l-L1
URL:https://www.rcsrdicko.cz/events/cvicte-s-nami-na-pilaku/var/ri-1.l-L1
END:VEVENT
END:VCALENDAR