BEGIN:VCALENDAR
VERSION:2.0
PRODID:-//eventon.com NONSGML v1.0//EN
CALSCALE:GREGORIAN
METHOD:PUBLISH
BEGIN:VEVENT
UID:69e7525feef00
DTSTAMP:20260421T103303Z
DTSTART:20230905T120000Z
DTEND:20230905T124500Z
LOCATION:
SUMMARY:Cvičte s námi
DESCRIPTION:Zdravotní cvičení pro střední a starší generaci pod vede
 ním fyzioterapeutky Bc. Jany Šrámkové. Na cvičení se nemusíte hlási
 t předem. Vstupné 60 Kč\,  možnost zakoupení výhodné permanentky. V
 ce informací naleznete ZDE.\nhttps://www.rcsrdicko.cz/events/cvicte-s-nam
 i-na-pilaku/
URL:https://www.rcsrdicko.cz/events/cvicte-s-nami-na-pilaku/
END:VEVENT
END:VCALENDAR